Package: gDRcore Version: 1.9.1 Command: /home/biocbuild/bbs-3.23-bioc/R/bin/R CMD build --keep-empty-dirs --no-resave-data gDRcore StartedAt: 2025-11-05 17:45:15 -0500 (Wed, 05 Nov 2025) EndedAt: 2025-11-05 17:45:58 -0500 (Wed, 05 Nov 2025) EllapsedTime: 43.0 seconds RetCode: 0 Status: OK PackageFile: gDRcore_1.9.1.tar.gz PackageFileSize: 1.092 MiB