Package: gDRcore Version: 1.7.8 Command: /Library/Frameworks/R.framework/Resources/bin/R CMD INSTALL gDRcore StartedAt: 2025-09-21 15:34:37 -0400 (Sun, 21 Sep 2025) EndedAt: 2025-09-21 15:34:59 -0400 (Sun, 21 Sep 2025) EllapsedTime: 22.0 seconds RetCode: 0 Status: OK