Package: gDR Version: 1.9.1 Command: /home/biocbuild/bbs-3.23-bioc/R/bin/R CMD INSTALL gDR StartedAt: 2025-11-20 15:38:37 -0500 (Thu, 20 Nov 2025) EndedAt: 2025-11-20 15:39:00 -0500 (Thu, 20 Nov 2025) EllapsedTime: 23.7 seconds RetCode: 0 Status: OK