Package: gDR Version: 1.7.2 Command: /Library/Frameworks/R.framework/Resources/bin/R CMD INSTALL gDR StartedAt: 2025-10-16 16:00:59 -0400 (Thu, 16 Oct 2025) EndedAt: 2025-10-16 16:01:31 -0400 (Thu, 16 Oct 2025) EllapsedTime: 32.8 seconds RetCode: 0 Status: OK