Package: gDR Version: 1.7.2 Command: /Library/Frameworks/R.framework/Resources/bin/R CMD build --keep-empty-dirs --no-resave-data gDR StartedAt: 2025-10-16 17:44:24 -0400 (Thu, 16 Oct 2025) EndedAt: 2025-10-16 17:45:38 -0400 (Thu, 16 Oct 2025) EllapsedTime: 74.5 seconds RetCode: 0 Status: OK PackageFile: gDR_1.7.2.tar.gz PackageFileSize: 276.1 KiB