Package: gDR Version: 1.7.2 Command: rm -rf gDR.buildbin-libdir && mkdir gDR.buildbin-libdir && /Users/biocbuild/BBS/utils/build-universal.sh gDR_1.7.2.tar.gz /Library/Frameworks/R.framework/Resources/bin/R gDR.buildbin-libdir StartedAt: 2025-10-17 03:51:30 -0400 (Fri, 17 Oct 2025) EndedAt: 2025-10-17 03:52:05 -0400 (Fri, 17 Oct 2025) EllapsedTime: 34.8 seconds RetCode: 0 Status: OK PackageFile: gDR_1.7.2.tgz PackageFileSize: 279 KiB