Package: gDR Version: 1.7.2 Command: /Library/Frameworks/R.framework/Resources/bin/R CMD build --keep-empty-dirs --no-resave-data gDR StartedAt: 2025-10-05 16:29:02 -0400 (Sun, 05 Oct 2025) EndedAt: 2025-10-05 16:29:22 -0400 (Sun, 05 Oct 2025) EllapsedTime: 19.2 seconds RetCode: 0 Status: OK PackageFile: gDR_1.7.2.tar.gz PackageFileSize: 276.1 KiB