Package: gDNAx Version: 1.9.0 Command: /home/biocbuild/bbs-3.23-bioc/R/bin/R CMD INSTALL gDNAx StartedAt: 2025-11-03 15:54:20 -0500 (Mon, 03 Nov 2025) EndedAt: 2025-11-03 15:55:08 -0500 (Mon, 03 Nov 2025) EllapsedTime: 47.7 seconds RetCode: 0 Status: OK