Package: gDNAx Version: 1.9.0 Command: /home/biocbuild/bbs-3.23-bioc/R/bin/R CMD build --keep-empty-dirs --no-resave-data gDNAx StartedAt: 2025-11-03 17:37:00 -0500 (Mon, 03 Nov 2025) EndedAt: 2025-11-03 17:40:22 -0500 (Mon, 03 Nov 2025) EllapsedTime: 202.2 seconds RetCode: 0 Status: OK PackageFile: gDNAx_1.9.0.tar.gz PackageFileSize: 737.1 KiB