Package: gDNAx Version: 1.7.3 Command: /Library/Frameworks/R.framework/Resources/bin/R CMD INSTALL gDNAx StartedAt: 2025-10-06 15:49:23 -0400 (Mon, 06 Oct 2025) EndedAt: 2025-10-06 15:50:23 -0400 (Mon, 06 Oct 2025) EllapsedTime: 60.4 seconds RetCode: 0 Status: OK