Package: gDNAx Version: 1.7.3 Command: /Library/Frameworks/R.framework/Resources/bin/R CMD build --keep-empty-dirs --no-resave-data gDNAx StartedAt: 2025-10-06 17:06:46 -0400 (Mon, 06 Oct 2025) EndedAt: 2025-10-06 17:11:08 -0400 (Mon, 06 Oct 2025) EllapsedTime: 261.9 seconds RetCode: 0 Status: OK PackageFile: gDNAx_1.7.3.tar.gz PackageFileSize: 743.4 KiB