Package: gDNAx Version: 1.7.3 Command: rm -rf gDNAx.buildbin-libdir && mkdir gDNAx.buildbin-libdir && /Users/biocbuild/BBS/utils/build-universal.sh gDNAx_1.7.3.tar.gz /Library/Frameworks/R.framework/Resources/bin/R gDNAx.buildbin-libdir StartedAt: 2025-10-08 02:18:43 -0400 (Wed, 08 Oct 2025) EndedAt: 2025-10-08 02:19:46 -0400 (Wed, 08 Oct 2025) EllapsedTime: 63.8 seconds RetCode: 0 Status: OK PackageFile: gDNAx_1.7.3.tgz PackageFileSize: 1.107 MiB