Package: gCrisprTools Version: 2.15.0 Command: /home/biocbuild/R/R/bin/R CMD build --keep-empty-dirs --no-resave-data gCrisprTools StartedAt: 2025-10-20 23:53:23 -0000 (Mon, 20 Oct 2025) EndedAt: 2025-10-21 00:29:00 -0000 (Tue, 21 Oct 2025) EllapsedTime: 2137.0 seconds RetCode: 0 Status: OK PackageFile: gCrisprTools_2.15.0.tar.gz PackageFileSize: 3.301 MiB