Package: gCrisprTools Version: 2.15.0 Command: /home/biocbuild/bbs-3.22-bioc/R/bin/R CMD check --install=check:gCrisprTools.install-out.txt --library=/home/biocbuild/bbs-3.22-bioc/R/site-library --timings gCrisprTools_2.15.0.tar.gz StartedAt: 2025-10-16 00:34:44 -0400 (Thu, 16 Oct 2025) EndedAt: 2025-10-16 00:46:42 -0400 (Thu, 16 Oct 2025) EllapsedTime: 717.7 seconds RetCode: 0 Status: OK CheckDir: gCrisprTools.Rcheck Warnings: 0