Package: gCrisprTools Version: 2.17.0 Command: /home/biocbuild/bbs-3.23-bioc/R/bin/R CMD INSTALL gCrisprTools StartedAt: 2025-11-20 15:18:08 -0500 (Thu, 20 Nov 2025) EndedAt: 2025-11-20 15:18:35 -0500 (Thu, 20 Nov 2025) EllapsedTime: 27.4 seconds RetCode: 0 Status: OK