Package: gCrisprTools Version: 2.17.0 Command: /home/biocbuild/bbs-3.23-bioc/R/bin/R CMD check --install=check:gCrisprTools.install-out.txt --library=/home/biocbuild/bbs-3.23-bioc/R/site-library --timings gCrisprTools_2.17.0.tar.gz StartedAt: 2025-11-21 23:43:43 -0500 (Fri, 21 Nov 2025) EndedAt: 2025-11-21 23:55:10 -0500 (Fri, 21 Nov 2025) EllapsedTime: 686.8 seconds RetCode: 0 Status: OK CheckDir: gCrisprTools.Rcheck Warnings: 0