Package: gCrisprTools Version: 2.17.0 Command: /home/biocbuild/bbs-3.23-bioc/R/bin/R CMD build --keep-empty-dirs --no-resave-data gCrisprTools StartedAt: 2025-11-20 17:42:27 -0500 (Thu, 20 Nov 2025) EndedAt: 2025-11-20 17:46:25 -0500 (Thu, 20 Nov 2025) EllapsedTime: 238.3 seconds RetCode: 0 Status: OK PackageFile: gCrisprTools_2.17.0.tar.gz PackageFileSize: 4.391 MiB