Package: funtooNorm Version: 1.35.0 Command: /home/biocbuild/bbs-3.23-bioc/R/bin/R CMD INSTALL funtooNorm StartedAt: 2025-11-20 15:45:55 -0500 (Thu, 20 Nov 2025) EndedAt: 2025-11-20 15:46:39 -0500 (Thu, 20 Nov 2025) EllapsedTime: 44.1 seconds RetCode: 0 Status: OK