Package: funtooNorm Version: 1.33.0 Command: /Library/Frameworks/R.framework/Resources/bin/R CMD INSTALL funtooNorm StartedAt: 2025-10-17 15:40:30 -0400 (Fri, 17 Oct 2025) EndedAt: 2025-10-17 15:41:32 -0400 (Fri, 17 Oct 2025) EllapsedTime: 61.9 seconds RetCode: 0 Status: OK