Package: funtooNorm Version: 1.33.0 Command: rm -rf funtooNorm.buildbin-libdir && mkdir funtooNorm.buildbin-libdir && /Users/biocbuild/BBS/utils/build-universal.sh funtooNorm_1.33.0.tar.gz /Library/Frameworks/R.framework/Resources/bin/R funtooNorm.buildbin-libdir StartedAt: 2025-10-17 03:51:12 -0400 (Fri, 17 Oct 2025) EndedAt: 2025-10-17 03:52:18 -0400 (Fri, 17 Oct 2025) EllapsedTime: 66.1 seconds RetCode: 0 Status: OK PackageFile: funtooNorm_1.33.0.tgz PackageFileSize: 1.144 MiB