Package: funOmics Version: 1.5.0 Command: /home/biocbuild/bbs-3.23-bioc/R/bin/R CMD INSTALL funOmics StartedAt: 2025-11-20 15:25:41 -0500 (Thu, 20 Nov 2025) EndedAt: 2025-11-20 15:25:59 -0500 (Thu, 20 Nov 2025) EllapsedTime: 17.9 seconds RetCode: 0 Status: OK