Package: funOmics Version: 1.5.0 Command: /home/biocbuild/bbs-3.23-bioc/R/bin/R CMD build --keep-empty-dirs --no-resave-data funOmics StartedAt: 2025-11-20 17:41:24 -0500 (Thu, 20 Nov 2025) EndedAt: 2025-11-20 17:47:11 -0500 (Thu, 20 Nov 2025) EllapsedTime: 347.4 seconds RetCode: 0 Status: OK PackageFile: funOmics_1.5.0.tar.gz PackageFileSize: 52.32 KiB