Package: funOmics Version: 1.3.0 Command: /Library/Frameworks/R.framework/Resources/bin/R CMD INSTALL funOmics StartedAt: 2025-10-10 15:11:13 -0400 (Fri, 10 Oct 2025) EndedAt: 2025-10-10 15:11:21 -0400 (Fri, 10 Oct 2025) EllapsedTime: 8.4 seconds RetCode: 0 Status: OK