Package: funOmics Version: 1.3.0 Command: rm -rf funOmics.buildbin-libdir && mkdir funOmics.buildbin-libdir && /Users/biocbuild/BBS/utils/build-universal.sh funOmics_1.3.0.tar.gz /Library/Frameworks/R.framework/Resources/bin/R funOmics.buildbin-libdir StartedAt: 2025-10-10 22:41:33 -0400 (Fri, 10 Oct 2025) EndedAt: 2025-10-10 22:41:41 -0400 (Fri, 10 Oct 2025) EllapsedTime: 8.1 seconds RetCode: 0 Status: OK PackageFile: funOmics_1.3.0.tgz PackageFileSize: 71.22 KiB