Package: funOmics Version: 1.5.0 Maintainer: Elisa Gomez de Lope MaintainerEmail: elisa.gomezdelope at uni.lu git_url: https://git.bioconductor.org/packages/funOmics git_branch: devel git_last_commit: ccd72f2 git_last_commit_date: 2025-10-29 11:30:40 -0400 (Wed, 29 Oct 2025)