Package: frmaTools Version: 1.61.0 Command: /home/biocbuild/bbs-3.22-bioc/R/bin/R CMD build --keep-empty-dirs --no-resave-data --md5 frmaTools StartedAt: 2025-10-17 17:38:46 -0400 (Fri, 17 Oct 2025) EndedAt: 2025-10-17 17:39:01 -0400 (Fri, 17 Oct 2025) EllapsedTime: 15.0 seconds RetCode: 0 Status: OK PackageFile: frmaTools_1.61.0.tar.gz PackageFileSize: 158.4 KiB