Package: frmaTools Version: 1.63.0 Command: /home/biocbuild/bbs-3.23-bioc/R/bin/R CMD INSTALL frmaTools StartedAt: 2025-11-20 15:12:16 -0500 (Thu, 20 Nov 2025) EndedAt: 2025-11-20 15:12:20 -0500 (Thu, 20 Nov 2025) EllapsedTime: 3.9 seconds RetCode: 0 Status: OK