Package: frmaTools Version: 1.63.0 Command: /home/biocbuild/bbs-3.23-bioc/R/bin/R CMD build --keep-empty-dirs --no-resave-data frmaTools StartedAt: 2025-11-20 17:41:09 -0500 (Thu, 20 Nov 2025) EndedAt: 2025-11-20 17:41:24 -0500 (Thu, 20 Nov 2025) EllapsedTime: 15.0 seconds RetCode: 0 Status: OK PackageFile: frmaTools_1.63.0.tar.gz PackageFileSize: 157.7 KiB