Package: frmaTools Version: 1.61.0 Command: /Library/Frameworks/R.framework/Resources/bin/R CMD build --keep-empty-dirs --no-resave-data frmaTools StartedAt: 2025-10-24 17:08:19 -0400 (Fri, 24 Oct 2025) EndedAt: 2025-10-24 17:08:40 -0400 (Fri, 24 Oct 2025) EllapsedTime: 20.6 seconds RetCode: 0 Status: OK PackageFile: frmaTools_1.61.0.tar.gz PackageFileSize: 157.5 KiB