Package: frmaTools Version: 1.61.0 Command: /Library/Frameworks/R.framework/Resources/bin/R CMD build --keep-empty-dirs --no-resave-data frmaTools StartedAt: 2025-10-10 16:26:51 -0400 (Fri, 10 Oct 2025) EndedAt: 2025-10-10 16:26:59 -0400 (Fri, 10 Oct 2025) EllapsedTime: 8.1 seconds RetCode: 0 Status: OK PackageFile: frmaTools_1.61.0.tar.gz PackageFileSize: 157.6 KiB