Package: frmaTools Version: 1.61.0 Command: rm -rf frmaTools.buildbin-libdir && mkdir frmaTools.buildbin-libdir && /Users/biocbuild/BBS/utils/build-universal.sh frmaTools_1.61.0.tar.gz /Library/Frameworks/R.framework/Resources/bin/R frmaTools.buildbin-libdir StartedAt: 2025-10-09 22:41:09 -0400 (Thu, 09 Oct 2025) EndedAt: 2025-10-09 22:41:11 -0400 (Thu, 09 Oct 2025) EllapsedTime: 2.0 seconds RetCode: 0 Status: OK PackageFile: frmaTools_1.61.0.tgz PackageFileSize: 185 KiB