Package: frma Version: 1.63.0 Command: /Library/Frameworks/R.framework/Resources/bin/R CMD INSTALL frma StartedAt: 2025-11-21 15:17:42 -0500 (Fri, 21 Nov 2025) EndedAt: 2025-11-21 15:17:54 -0500 (Fri, 21 Nov 2025) EllapsedTime: 12.0 seconds RetCode: 0 Status: OK