Package: frma Version: 1.63.0 Command: /Library/Frameworks/R.framework/Resources/bin/R CMD build --keep-empty-dirs --no-resave-data frma StartedAt: 2025-11-21 16:22:57 -0500 (Fri, 21 Nov 2025) EndedAt: 2025-11-21 16:23:27 -0500 (Fri, 21 Nov 2025) EllapsedTime: 29.3 seconds RetCode: 0 Status: OK PackageFile: frma_1.63.0.tar.gz PackageFileSize: 288.2 KiB