Package: frenchFISH Version: 1.21.0 Command: /home/biocbuild/bbs-3.22-bioc/R/bin/R CMD build --keep-empty-dirs --no-resave-data --md5 frenchFISH StartedAt: 2025-10-12 17:39:06 -0400 (Sun, 12 Oct 2025) EndedAt: 2025-10-12 17:39:11 -0400 (Sun, 12 Oct 2025) EllapsedTime: 5.0 seconds RetCode: 0 Status: OK PackageFile: frenchFISH_1.21.0.tar.gz PackageFileSize: 21.77 KiB