Package: fobitools Version: 1.17.0 Command: /home/biocbuild/R/R/bin/R CMD INSTALL fobitools StartedAt: 2025-10-09 21:01:51 -0000 (Thu, 09 Oct 2025) EndedAt: 2025-10-09 21:02:29 -0000 (Thu, 09 Oct 2025) EllapsedTime: 37.2 seconds RetCode: 0 Status: OK