Package: fobitools Version: 1.17.0 Command: /home/biocbuild/R/R/bin/R CMD build --keep-empty-dirs --no-resave-data fobitools StartedAt: 2025-10-10 00:37:22 -0000 (Fri, 10 Oct 2025) EndedAt: 2025-10-10 00:38:59 -0000 (Fri, 10 Oct 2025) EllapsedTime: 97.0 seconds RetCode: 0 Status: OK PackageFile: fobitools_1.17.0.tar.gz PackageFileSize: 3.437 MiB