Package: fobitools Version: 1.17.0 Command: /home/biocbuild/bbs-3.22-bioc/R/bin/R CMD check --install=check:fobitools.install-out.txt --library=/home/biocbuild/bbs-3.22-bioc/R/site-library --timings fobitools_1.17.0.tar.gz StartedAt: 2025-10-10 00:02:57 -0400 (Fri, 10 Oct 2025) EndedAt: 2025-10-10 00:07:48 -0400 (Fri, 10 Oct 2025) EllapsedTime: 291.4 seconds RetCode: 0 Status: OK CheckDir: fobitools.Rcheck Warnings: 0