Package: fobitools Version: 1.19.0 Command: /home/biocbuild/bbs-3.23-bioc/R/bin/R CMD check --install=check:fobitools.install-out.txt --library=/home/biocbuild/bbs-3.23-bioc/R/site-library --timings fobitools_1.19.0.tar.gz StartedAt: 2025-11-21 23:40:34 -0500 (Fri, 21 Nov 2025) EndedAt: 2025-11-21 23:45:25 -0500 (Fri, 21 Nov 2025) EllapsedTime: 290.4 seconds RetCode: 0 Status: OK CheckDir: fobitools.Rcheck Warnings: 0