Package: fobitools Version: 1.19.0 Command: /Library/Frameworks/R.framework/Resources/bin/R CMD INSTALL fobitools StartedAt: 2025-11-20 15:17:00 -0500 (Thu, 20 Nov 2025) EndedAt: 2025-11-20 15:17:34 -0500 (Thu, 20 Nov 2025) EllapsedTime: 34.4 seconds RetCode: 0 Status: OK