Package: fobitools Version: 1.19.0 Command: /Library/Frameworks/R.framework/Resources/bin/R CMD build --keep-empty-dirs --no-resave-data fobitools StartedAt: 2025-11-20 17:03:42 -0500 (Thu, 20 Nov 2025) EndedAt: 2025-11-20 17:04:47 -0500 (Thu, 20 Nov 2025) EllapsedTime: 65.3 seconds RetCode: 1 Status: ERROR PackageFile: None PackageFileSize: NA