Package: fobitools Version: 1.19.0 Command: rm -rf fobitools.buildbin-libdir && mkdir fobitools.buildbin-libdir && /Users/biocbuild/BBS/utils/build-universal.sh fobitools_1.19.0.tar.gz /Library/Frameworks/R.framework/Resources/bin/R fobitools.buildbin-libdir StartedAt: 2025-11-20 01:33:48 -0500 (Thu, 20 Nov 2025) EndedAt: 2025-11-20 01:34:12 -0500 (Thu, 20 Nov 2025) EllapsedTime: 24.4 seconds RetCode: 0 Status: OK PackageFile: fobitools_1.19.0.tgz PackageFileSize: 5.099 MiB