Package: fmrs Version: 1.19.0 Command: /Library/Frameworks/R.framework/Resources/bin/R CMD INSTALL fmrs StartedAt: 2025-10-17 15:03:03 -0400 (Fri, 17 Oct 2025) EndedAt: 2025-10-17 15:03:10 -0400 (Fri, 17 Oct 2025) EllapsedTime: 6.7 seconds RetCode: 0 Status: OK