Package: fmrs Version: 1.19.0 Command: /Library/Frameworks/R.framework/Resources/bin/R CMD build --keep-empty-dirs --no-resave-data fmrs StartedAt: 2025-10-17 16:25:16 -0400 (Fri, 17 Oct 2025) EndedAt: 2025-10-17 16:25:22 -0400 (Fri, 17 Oct 2025) EllapsedTime: 6.1 seconds RetCode: 0 Status: OK PackageFile: fmrs_1.19.0.tar.gz PackageFileSize: 47 KiB