Package: fmcsR Version: 1.53.0 Command: /home/biocbuild/bbs-3.23-bioc/R/bin/R CMD build --keep-empty-dirs --no-resave-data fmcsR StartedAt: 2025-11-20 17:40:41 -0500 (Thu, 20 Nov 2025) EndedAt: 2025-11-20 17:41:29 -0500 (Thu, 20 Nov 2025) EllapsedTime: 48.0 seconds RetCode: 0 Status: OK PackageFile: fmcsR_1.53.0.tar.gz PackageFileSize: 807.6 KiB