Package: fmcsR Version: 1.51.0 Command: /Library/Frameworks/R.framework/Resources/bin/R CMD INSTALL fmcsR StartedAt: 2025-10-21 15:16:54 -0400 (Tue, 21 Oct 2025) EndedAt: 2025-10-21 15:17:37 -0400 (Tue, 21 Oct 2025) EllapsedTime: 42.4 seconds RetCode: 0 Status: OK