Package: fmcsR Version: 1.51.0 Command: /Library/Frameworks/R.framework/Resources/bin/R CMD build --keep-empty-dirs --no-resave-data fmcsR StartedAt: 2025-10-21 17:17:03 -0400 (Tue, 21 Oct 2025) EndedAt: 2025-10-21 17:18:28 -0400 (Tue, 21 Oct 2025) EllapsedTime: 84.9 seconds RetCode: 0 Status: OK PackageFile: fmcsR_1.51.0.tar.gz PackageFileSize: 864.6 KiB