Package: fmcsR Version: 1.51.0 Command: rm -rf fmcsR.buildbin-libdir && mkdir fmcsR.buildbin-libdir && /Users/biocbuild/BBS/utils/build-universal.sh fmcsR_1.51.0.tar.gz /Library/Frameworks/R.framework/Resources/bin/R fmcsR.buildbin-libdir StartedAt: 2025-10-22 02:25:29 -0400 (Wed, 22 Oct 2025) EndedAt: 2025-10-22 02:26:13 -0400 (Wed, 22 Oct 2025) EllapsedTime: 44.0 seconds RetCode: 0 Status: OK PackageFile: fmcsR_1.51.0.tgz PackageFileSize: 1014 KiB