Package: fmcsR Version: 1.51.0 Command: /Library/Frameworks/R.framework/Resources/bin/R CMD INSTALL fmcsR StartedAt: 2025-09-30 15:07:29 -0400 (Tue, 30 Sep 2025) EndedAt: 2025-09-30 15:07:38 -0400 (Tue, 30 Sep 2025) EllapsedTime: 8.7 seconds RetCode: 0 Status: OK