Package: fmcsR Version: 1.51.0 Command: rm -rf fmcsR.buildbin-libdir && mkdir fmcsR.buildbin-libdir && /Users/biocbuild/BBS/utils/build-universal.sh fmcsR_1.51.0.tar.gz /Library/Frameworks/R.framework/Resources/bin/R fmcsR.buildbin-libdir StartedAt: 2025-09-30 22:40:12 -0400 (Tue, 30 Sep 2025) EndedAt: 2025-09-30 22:40:24 -0400 (Tue, 30 Sep 2025) EllapsedTime: 12.2 seconds RetCode: 0 Status: OK PackageFile: fmcsR_1.51.0.tgz PackageFileSize: 1016 KiB