Package: flowcatchR Version: 1.45.0 Command: /home/biocbuild/bbs-3.23-bioc/R/bin/R CMD INSTALL flowcatchR StartedAt: 2025-11-06 15:13:43 -0500 (Thu, 06 Nov 2025) EndedAt: 2025-11-06 15:13:53 -0500 (Thu, 06 Nov 2025) EllapsedTime: 9.7 seconds RetCode: 0 Status: OK